BEGIN:VCALENDAR
VERSION:2.0
PRODID:-//wp-events-plugin.com//6.4.7.3//EN
BEGIN:VEVENT
UID:0-101@festivalznanosti.uniri.hr
DTSTART:20230426T100000Z
DTEND:20230426T143000Z
DTSTAMP:20230418T211358Z
URL:https://festivalznanosti.uniri.hr/2023/dogadaji/alumni-za-studente-cik
 lus-kratkih-predavanja/
SUMMARY:Alumni za studente – ciklus kratkih predavanja
DESCRIPTION:Prijave za radionice na sanja.dugonjic@uniri.hr.
CATEGORIES:Predavanja
LOCATION:Građevinski fakultet\, Sveučilište u Rijeci\, Ul. Radmile Matej
 čić 3\, Rijeka\, Croatia
X-APPLE-STRUCTURED-LOCATION;VALUE=URI;X-ADDRESS=Ul. Radmile Matejčić 3\, 
 Rijeka\, Croatia;X-APPLE-RADIUS=100;X-TITLE=Građevinski fakultet\, Sveuč
 ilište u Rijeci:geo:0,0
END:VEVENT
END:VCALENDAR