BEGIN:VCALENDAR
VERSION:2.0
PRODID:-//wp-events-plugin.com//6.4.7.3//EN
BEGIN:VEVENT
UID:0-111@festivalznanosti.uniri.hr
DTSTART:20230426T180000Z
DTEND:20230426T190000Z
DTSTAMP:20230424T012504Z
URL:https://festivalznanosti.uniri.hr/2023/dogadaji/cudesna-leteca-bica-2/
SUMMARY:Čudesna leteća bića
DESCRIPTION:Dragi prijatelji i prijateljice\, dobro došli u čudesan svije
 t letećih bića – svijet ptica. Ptice žive posvuda na planetu Zemlji. 
 Ima ih svih veličina\, boja i oblika. Neke su ptice izvrsni lovci u letu\
 , neke ne mogu letjeti\, a druge su\, pak\, odlični plivači. Neke kad ra
 šire krila\, veće su od nas\, a neke su veličine kao naš palac. Ptice 
 se međusobno mogu jako razlikovati\, ali svima je zajedničko da imaju kr
 ila\, perje\, udišu zrak\, liježu se iz jaja\, imaju kljunove\, ali ne i
  zube. Znate li koja je njihova najuočljivija osobina? LET. Upravo zbog t
 e svoje sposobnosti mogu živjeti gdje god požele\, a za to trebaju samo 
 poletjeti. Istražit ćemo svijet ptica zanimljivim i zabavnim ptičjim ak
 tivnostima. Veselimo se vašem dolasku u Dječju kuću i zajedničkom letu
 !\nVoditelji:\nAnita Hodak\n\nInformacije o aktivnostima i načinu prijave
  na djecjakuca.hr.
ATTACH;FMTTYPE=image/jpeg:https://festivalznanosti.uniri.hr/2023/wp-conten
 t/uploads/sites/6/2023/04/ptice.jpg
CATEGORIES:Radionice
LOCATION:Dječja kuća\, Ul. Viktora cara Emina 1A / Art-kvart "Benčić"\,
  Rijeka\, Croatia
X-APPLE-STRUCTURED-LOCATION;VALUE=URI;X-ADDRESS=Ul. Viktora cara Emina 1A /
  Art-kvart \"Benčić\"\, Rijeka\, Croatia;X-APPLE-RADIUS=100;X-TITLE=Dje
 čja kuća:geo:0,0
END:VEVENT
END:VCALENDAR