BEGIN:VCALENDAR
VERSION:2.0
PRODID:-//wp-events-plugin.com//6.4.7.3//EN
BEGIN:VEVENT
UID:0-99@festivalznanosti.uniri.hr
DTSTART:20230426T090000Z
DTEND:20230426T130000Z
DTSTAMP:20230418T002503Z
URL:https://festivalznanosti.uniri.hr/2023/dogadaji/edukativni-program-za-
 vrtice/
SUMMARY:Edukativni program za vrtiće
DESCRIPTION:Voditelji: djelatnici Prirodoslovnog muzeja Rijeka
CATEGORIES:Radionice
LOCATION:Prirodoslovni muzej Rijeka\, Lorenzov pro. 1\, Rijeka\, Croatia
X-APPLE-STRUCTURED-LOCATION;VALUE=URI;X-ADDRESS=Lorenzov pro. 1\, Rijeka\, 
 Croatia;X-APPLE-RADIUS=100;X-TITLE=Prirodoslovni muzej Rijeka:geo:0,0
END:VEVENT
END:VCALENDAR