BEGIN:VCALENDAR
VERSION:2.0
PRODID:-//wp-events-plugin.com//6.4.7.3//EN
BEGIN:VEVENT
UID:0-117@festivalznanosti.uniri.hr
DTSTART:20230426T200000Z
DTEND:20230426T213000Z
DTSTAMP:20230418T002801Z
URL:https://festivalznanosti.uniri.hr/2023/dogadaji/gradevinarstvo-i-drust
 vo/
SUMMARY:Građevinarstvo i društvo
DESCRIPTION:Sudjeluju: Petra Jagodnik\, Željko Arbanas\, Dragan Ribarić
CATEGORIES:ZnaK
LOCATION:Dječja kuća\, Ul. Viktora cara Emina 1A / Art-kvart "Benčić"\,
  Rijeka\, Croatia
X-APPLE-STRUCTURED-LOCATION;VALUE=URI;X-ADDRESS=Ul. Viktora cara Emina 1A /
  Art-kvart \"Benčić\"\, Rijeka\, Croatia;X-APPLE-RADIUS=100;X-TITLE=Dje
 čja kuća:geo:0,0
END:VEVENT
END:VCALENDAR