BEGIN:VCALENDAR
VERSION:2.0
PRODID:-//wp-events-plugin.com//6.4.7.3//EN
BEGIN:VEVENT
UID:0-104@festivalznanosti.uniri.hr
DTSTART:20230426T100000Z
DTEND:20230426T113000Z
DTSTAMP:20230421T121304Z
URL:https://festivalznanosti.uniri.hr/2023/dogadaji/holisticki-pristup-str
 ateskom-planiranju-prostornog-razvoja-za-urbanu-otpornost-spur-model/
SUMMARY:Holistički pristup strateškom planiranju prostornog razvoja za  u
 rbanu otpornost – SPUR model
DESCRIPTION:Kako su kompleksni gradski sustavi kombinacija raznih prostorni
 h sustava s različitim značajkama (društvenim\, okolišnim\, ekonomskim
 \, političkim\, kulturnim)\, odluke koje se donose trebaju voditi računa
  o svim tim aspektima. Drugim riječima\, proces odlučivanja treba voditi
  holističkim pristupom i kompleksnim analizama i procjenama mogućih scen
 arija razvoja. Danas je posebno istaknuto pitanje održivosti\, pristupač
 nosti\, krajolika i interesa javnosti. Zbog toga su pri odlučivanju u str
 ateškom planiranju kompleksnih područja kao što je povijesni gradski kr
 ajolik (Historic Urban Landscapes (HUL)) potrebni adekvatni alati za pomo
 ć\, kao što je model SPUR (Strategic Planning for Urban Resilience)\, ko
 ji omogućuje izradu scenarija\, analizu i procjenu planskih alternativa k
 ao i odlučivanje s gledišta održivog razvoja.\nIva Mrak\n je rođena u 
 Rijeci. Diplomirala je 2005. godine na Sveučilištu IUAV u Veneciji\, a o
 brazovanje je nastavila na Sveučilištu Nova Gorica\, gdje je na međunar
 odnom programu doktorirala 2011. godine na temu održivog razvoja i valori
 zacije kulturne baštine. Od 2013. godine zaposlena je na Građevinskom fa
 kultetu u Rijeci\, a u znanstveno-nastavno zvanje izvanredne profesorice i
 zabrana je 2022. godine.\n\nUz redovitu nastavu pokrenula je i e-kolegij 
 „Universal and inclusive design for better human environments (UniDesign
 ) - Univerzalni i inkluzivni dizajn za bolji ljudski okoliš (UniDesign)
 “ – međunarodni edukativni program koji izvodi Sveučilište u Rijeci
  s partnerima iz različitih europskih sveučilišta te Australije\, a pod
  pokroviteljstvom mreže EIDD Design for all Europe 2020/2021.\n\nObjavila
  je više znanstvenih i stručnih radova te je sudjelovala na brojnim međ
 unarodnim konferencijama.\n\nDobitnica je Međunarodne nagrade za najbolji
  doktorski znanstveni rad na temu “Inovativni instrumenti i metode za pr
 omicanje izdržljivog\, kreativnog i održivog grada“ Sveučilišta u Na
 pulju Federico II (Università degli studi di Napoli Federico II)\, 2014. 
 Zbog toga je dobila i Zahvalnicu rektora Sveučilišta u Rijeci za ostvare
 na postignuća u 2014. godini\, koja su pridonijela njegovu promicanju i n
 apretku. Bila je član timova nagrađivanih na arhitektonsko-urbanistički
 m natječajima. Sudjelovala je u istraživačkim projektima i projektima s
 uradnje s lokalnom zajednicom. Bila je urednica Zbornika radova Građevins
 kog fakulteta i posebnog izdanja časopisa MDPI Sustainability. Zamjenica 
 je predstojnice Centra za industrijsku baštinu Sveučilišta u Rijeci.\n\
 n&nbsp\;\nDenis Ambruš\n rođen je 1970. u Osijeku. Poslije završenog Ma
 tematičko-informatičkog smjera u srednjoj školi CUO „Braća Ribar“ 
 u Osijeku 2005. stekao je zvanje diplomiranog inženjera arhitekture na Ar
 hitektonskom fakultetu Sveučilišta u Zagrebu. Zvanje magistra znanosti s
 tekao je 2012. na Fakultetu za gradbeništvo in geodezijo Univerze v Ljubl
 jani\, gdje je završio Interdisciplinarni podiplomski študij prostorskeg
 a in urbanističnega planiranja (IPŠPUP). Doktorirao je na Arhitektonskom
  fakultetu Univerziteta u Beogradu 2018. godine\, gdje je stekao zvanje Do
 ktor nauka – Arhitektura i urbanizam. Od 2001. do 2006. radio je u proje
 ktnim arhitektonskim uredima „NOMAD“\, „PROJEKTUM“ i „Ekonomsko-
 tehničkom zavodu – ETZ“ u Osijeku. Nakon toga je 2006. – 2012. bio 
 asistent na Građevinskom fakultetu Sveučilišta J. J. Strossmayera u Osi
 jeku. U mandatnom razdoblju 2013. – 2017. obnašao je funkciju zamjenika
  gradonačelnika Grada Osijeka. Od 2020. godine zaposlenik je Građevinsko
 g fakulteta u Rijeci u suradničkom zvanju poslijedoktoranda. \n\nNa arhi
 tektonsko-urbanističkim natječajima u zemlji i inozemstvu osvojio je prv
 e nagrade 1996. za Natječaj za idejno urbanističko rješenje sportsko re
 kreacijskog kompleksa „Gradski vrt” u Osijeku i 2003. za Natječaj za 
 idejno rješenje svečane bine liturgijskog prostora sv. Ivana Pavla II. u
  Osijeku\, zatim drugu nagradu 2006. na Natječaju za idejno oblikovno rje
 šenje Spomenika dr. Anti Starčeviću na središnjem gradskom Trgu u Osij
 eku te treću nagradu 2007. na Natječaju za izradu idejnoga urbanističko
 -arhitektonskog rješenja uređenja šireg područja središnjeg gradskog 
 Trga u Belom Manastiru\, te otkupa 1997. na Natječaju za idejno urbanisti
 čko-arhitektonsko rješenje kompleksa „Zimska luka” u Osijeku. Na me
 đunarodnom natječaju „Solutions“ u sklopu 25. Salona mladih 1998. u 
 Zagrebu ocjenjivač Makoto Sei Watanabe dodijelio mu je „honourable ment
 ion“. Autor je niza poslovnih i drugih projekata\, od kojih su realizira
 ne: 2007. zgrada za odgoj i obrazovanje – područna škola u Sarvašu\, 
 Centar za održavanje i kontrolu prometa u Đakovu\, 2005. Zgrada gradske 
 tržnice u Belom Manastiru\, 2004. Stambena zgrada u Osijeku\, 2003. Poslo
 vno upravna zgrada Hypo banke u Osijeku i 2003. Svečana bina liturgijskog
  prostora sv. Ivana Pavla II. u Osijeku. Aktivni je sudionik brojnih doma
 ćih i međunarodnih skupova urbanista i prostornih planera na kojima je o
 držao nekoliko znanstveno-stručnih izlaganja. \n\nU prethodnom je razdo
 blju obavljao nekoliko javnih funkcija: 2015. – 2017. član Izvršnog od
 bora Vijeća dunavskih gradova i regija\, Ulm (Njemačka) – CoDCR\; 2017
 . – 2021. vijećnik Županijske skupštine Osječko-baranjske županije\
 ; 2017. – 2018. član vijeća Zavoda za znanstveni i umjetnički rad HAZ
 U-a u Osijeku. Godine 2019. objavio je znanstvenu monografiju „Vraćanje
  grada“ (s Vlatkom Dusparićem) te 2020. knjigu „Mehanički grad“ i 
 2021. znanstvenu monografiju „Postindustrijski gradovi“\, za koju je 2
 022. godine osvojio Prvu nagradu Udruženja urbanista Srbije\, u kategorij
 i publikacije\, na 31. Međunarodnom salonu urbanizma.\n\n&nbsp\;\nIvan Ma
 rović\n rođen je 1982. godine u Splitu. Diplomirao je 2006. godine na Gr
 ađevinsko-arhitektonskom fakultetu u Splitu (smjer Konstrukcije)\, a 2013
 . godine doktorirao na Građevinskom fakultetu u Zagrebu (smjer Organizaci
 ja građenja). Od 2007. godine zaposlen je na Građevinskom fakultetu u Ri
 jeci u suradničkom zvanju asistenta\, a u znanstveno-nastavno zvanje izva
 nredni profesor izabran je 2021. godine.\n\nOsim nastave bavi se znanstven
 oistraživačkim radom u sklopu međunarodnih i domaćih znanstvenih proje
 kata. Aktivan je istraživač u interdisciplinarnom području znanosti (po
 lje Projektni menadžment) pri čemu je znanstveni interes usmjerio na raz
 ličite aspekte projektnog menadžmenta u graditeljstvu i životnog ciklus
 a projekata\, kvantitativnih metoda u području odlučivanja te sustava za
  podršku odlučivanju. Kao autor ili suautor objavio je preko 100 znanstv
 enih i stručnih radova\, od čega 52 rada u znanstvenim časopisima\, dva
  poglavlja u knjigama te jednu uredničku knjigu. Bio je član znanstvenih
  odbora nekoliko desetaka međunarodnih znanstvenih konferencija te gostuj
 ući urednik triju međunarodnih znanstvenih časopisa indeksiranih u baza
 ma WOS i Scopus. Na temelju ostvarenog znanstvenog doprinosa izabran je u 
 znanstveno zvanje višeg znanstvenog suradnika u interdisciplinarnom podru
 čju znanosti\, znanstvenom polju projektni menadžment.\n\nDobitnik je go
 dišnje nagrade Hrvatskog saveza građevinskih inženjera za najbolji dokt
 orski rad iz područja građevinarstva u 2013. godini\, a 2015. godine dob
 itnik je nagrade Akademije tehničkih znanosti Hrvatske „Vera Johanides
 “ te nagrade Zaklade Sveučilišta u Rijeci u kategoriji „Mladi znanst
 venici – područje interdisciplinarne znanosti“\, dok je 2022. godine 
 dobio nagradu Zaklade Sveučilišta u Rijeci u kategoriji „Nagrada za tr
 ansfer znanja“ te srebrnu medalju na 20. međunarodnoj izložbi inovacij
 a.
CATEGORIES:Predavanja
LOCATION:Građevinski fakultet\, Sveučilište u Rijeci\, Ul. Radmile Matej
 čić 3\, Rijeka\, Croatia
X-APPLE-STRUCTURED-LOCATION;VALUE=URI;X-ADDRESS=Ul. Radmile Matejčić 3\, 
 Rijeka\, Croatia;X-APPLE-RADIUS=100;X-TITLE=Građevinski fakultet\, Sveuč
 ilište u Rijeci:geo:0,0
END:VEVENT
END:VCALENDAR