BEGIN:VCALENDAR
VERSION:2.0
PRODID:-//wp-events-plugin.com//6.4.7.3//EN
BEGIN:VEVENT
UID:0-118@festivalznanosti.uniri.hr
DTSTART:20230426T200000Z
DTEND:20230426T210000Z
DTSTAMP:20230418T225324Z
URL:https://festivalznanosti.uniri.hr/2023/dogadaji/kako-do-vrha/
SUMMARY:Kako do vrha
DESCRIPTION:Stipe Božić\, ikona hrvatskog i svjetskog alpinizma\, govorit
  će o iskustvu organizacije sportskog i televizijskog pothvata „Sedam v
 rhova“\, u kojem se popeo na najviše vrhove svih sedam kontinenata. Oda
 kle ideje i kako one nastaju prije planiranja projekta? Božić će nam de
 taljno opisati razradu ideje\, s obzirom na sportski i financijski aspekt.
  Kako se priprema na opasnosti koje očekuju cijeli tim\; kako bira strate
 ške partnere\; kako pazi na izbor tima s kojim će se pripremati i putova
 ti. Osim iskustva i potrebnih kvalifikacija članovi tima moraju biti prij
 atelji ili barem tolerantni jedan prema drugome. Kako se ponašati u krizn
 im situacijama i što poduzeti da se one prevladaju? „Moram se potpuno p
 redati projektu\, vjerovati u njega i biti svjestan da ću većinu stvari 
 morati uraditi sam. Jer ako ja vjerujem u projekt\, to se vidi i prenosi n
 a druge.“ S. Božić „Na kraju je važno i slavlje\, ali u mom primjer
 u nije dobro slaviti prerano\, znači dok sam na vrhu\, jer vrh je\, u mom
  slučaju\, samo polovica puta koji sam prošao.“ S. Božić\nStipe Bož
 ić\nrođen je 2. siječnja 1951. godine u Zavojanima\, Općina Vrgorac. N
 ajviše je poznat po tome što se popeo na najviše vrhove svijeta te na s
 kijama stigao do Sjevernog pola. Božić je plodan publicist\, autor\, mno
 gobrojnih novinskih članaka\, feljtona\, kalendara i knjiga: Put na vrh s
 vijeta\, Sedam vrhova\, Svete planine svijeta\, K2 – trijumf i tragedija
  i San o Everestu. Autor je više od 100 dokumentarnih filmova\, a sam je 
 profesionalnom kamerom snimio na kilometre filmskog materijala upravo na H
 imalaji. Naime\, čak se dva puta popeo na sam vrh Mount Everesta! Godine 
 1992. dovršio je dokumentarni film o Himalajama „Zašto“ u produkciji
  Mediteran Filma\, Fonda kulture Republike Hrvatske i HTV-a. Najuspješnij
 e su mu putopisne serije Sedam vrhova\, Dubine\, Hrvatske planine\, Krš i
  more\, Svete planine svijeta\, Pustinje svijeta\, Nazovi 112 i Let nad Hr
 vatskom\, koje su\, nakon prikazanja na HTV-u\, prodane širom svijeta. Nj
 egovi filmovi Reticent Wall i Dhaulagiri Express nagrađivani su najvišim
  nagradama na međunarodnim festivalima.
CATEGORIES:Predavanja
LOCATION:Gervais centar\, Ul. Nikole Tesle 5\, Opatija\, Croatia
X-APPLE-STRUCTURED-LOCATION;VALUE=URI;X-ADDRESS=Ul. Nikole Tesle 5\, Opatij
 a\, Croatia;X-APPLE-RADIUS=100;X-TITLE=Gervais centar:geo:0,0
END:VEVENT
END:VCALENDAR