BEGIN:VCALENDAR
VERSION:2.0
PRODID:-//wp-events-plugin.com//6.4.7.3//EN
BEGIN:VEVENT
UID:0-96@festivalznanosti.uniri.hr
DTSTART:20230425T200000Z
DTEND:20230425T213000Z
DTSTAMP:20230425T163109Z
URL:https://festivalznanosti.uniri.hr/2023/dogadaji/kako-potresi-utjecu-na
 -prirodu-i-drustvo/
SUMMARY:Kako potresi utječu na prirodu i društvo
DESCRIPTION:Sudjeluju: Marijan Herak\, Davorka Radovčić\, Boštjan Surina
 \n
ATTACH;FMTTYPE=image/jpeg:https://festivalznanosti.uniri.hr/2023/wp-conten
 t/uploads/sites/6/2023/04/potres.png
LOCATION:Dječja kuća\, Ul. Viktora cara Emina 1A / Art-kvart "Benčić"\,
  Rijeka\, Croatia
X-APPLE-STRUCTURED-LOCATION;VALUE=URI;X-ADDRESS=Ul. Viktora cara Emina 1A /
  Art-kvart \"Benčić\"\, Rijeka\, Croatia;X-APPLE-RADIUS=100;X-TITLE=Dje
 čja kuća:geo:0,0
END:VEVENT
END:VCALENDAR