BEGIN:VCALENDAR
VERSION:2.0
PRODID:-//wp-events-plugin.com//6.4.7.3//EN
BEGIN:VEVENT
UID:0-102@festivalznanosti.uniri.hr
DTSTART:20230426T150000Z
DTEND:20230426T154500Z
DTSTAMP:20230421T121328Z
URL:https://festivalznanosti.uniri.hr/2023/dogadaji/koncept-planiranja-sis
 tema-zelenila-u-beogradu-srbija-ka-odrzivom-i-zelenom-gradu/
SUMMARY:Koncept planiranja sistema zelenila u Beogradu (Srbija) - ka održi
 vom i zelenom  gradu
DESCRIPTION:The concept of Green Areas System planning in Belgrade (Serbia)
  – towards the Sustainable and Green City\n\nSažetak:  Sistem zelenila 
 u strateškim dokumentima Grada\n\nSistem zelenila u planskim dokumentima 
 Grada\n\nPostojeće stanje sistema zelenih površina\n\nProblemi i izazovi
  planiranja zelenila\n\nEkološki indeks u urbanističkom planiranju \n\n
 Nove tendencije ozelenjivanja (zeleni krovovi\, vertikalno zelenilo i dr.)
 \n\nInstrumenti za dostizanje koncepta Beograd – zeleni grad.\n\n&nbsp\;
 \nDejan Filipović \nrođen je 1968. godine u Beogradu. Diplomirao je na G
 eografskom fakultetu Univerziteta u Beogradu\, smer Prostorno planiranje 1
 992. godine sa prosečnom ocenom 9\,70. Magistrirao je 1996. godine\, a do
 ktorsku disertaciju odbranio je 2000. godine. Godine 2011. izabran u zvanj
 e redovnog profesora. Pored osnovnih angažovan je kao nastavnik na master
  i doktorskim akademskim studijama. \n\nOblast rada i interesovanja su mu
  zaštita životne sredine i prostorno planiranje. Specijalizovao se za ob
 last strateških procena uticaja na životnu sredinu\, sistema zaštite ž
 ivotne sredine u prostornom i urbanističkom planiranju. Posledoktorsko us
 avršavanje bilo mu je iz oblasti upravljanja otpadom u životnoj sredini.
  Učesnik je više naučnoistraživačkih projekata. Bio je rukovodilac il
 i član tima u izradi 30 prostornih i 30 urbanističkih planova i oko 80 s
 tudija zaštite životne sredine. \n\nDo sada je publikovao oko 220 nauč
 nih i stručnh radova\, od kojih 60 na engleskom jeziku\, a autor je 24 ra
 da na SCI listi. Autor je četiri udžbenika\, tri nacionalne monografije\
 , tri praktikuma i jednog priručnika. Mentor je 11 doktorskih disertacija
 \, više master i diplomskih radova. Profesionalna i javna delatnost: pror
 ektor Univerziteta u Beogradu od oktobra 2021.godine\, dekan Geografskog f
 akulteta (2012-2021. god.)\; predsednik Asocijacije prostornih planera Srb
 ije (2004-2008. god.)\; upravnik Instituta za prostorno planiranje (2008-2
 012. god.)\; prodekan za nastavu Geografskog fakulteta (2004-2006. god.)\;
  stručni konsultant UNDP\; član Republičke komisije za stručnu kontrol
 u prostornih planova. Od 2003. godine ooseduje licencu odgovornog planera.
  Osnivač je i glavni i odgovorni urednik časopisa „Planer“ i stručn
 i konsultant časopisa „National Geographic Srbija“ od njegovog osniva
 nja 2006. god. Dobitnik je više značajnih nagrada i priznanja za postign
 ute rezultate.
CATEGORIES:Predavanja
LOCATION:Građevinski fakultet\, Sveučilište u Rijeci\, Ul. Radmile Matej
 čić 3\, Rijeka\, Croatia
X-APPLE-STRUCTURED-LOCATION;VALUE=URI;X-ADDRESS=Ul. Radmile Matejčić 3\, 
 Rijeka\, Croatia;X-APPLE-RADIUS=100;X-TITLE=Građevinski fakultet\, Sveuč
 ilište u Rijeci:geo:0,0
END:VEVENT
END:VCALENDAR