BEGIN:VCALENDAR
VERSION:2.0
PRODID:-//wp-events-plugin.com//6.4.7.3//EN
BEGIN:VEVENT
UID:0-93@festivalznanosti.uniri.hr
DTSTART:20230425T170000Z
DTEND:20230425T180000Z
DTSTAMP:20230425T162707Z
URL:https://festivalznanosti.uniri.hr/2023/dogadaji/krapinski-neandertalci
 -danas/
SUMMARY:Krapinski neandertalci danas
DESCRIPTION:Zbirka krapinskih neandertalaca jedna je od najbogatijih\, najv
 rjednijih i najznačajnijih zbirki fosilnih ostataka hominina na svijetu. 
 Zbirka je od svojih samih početaka\, 1899. godine\, bila predmet temeljit
 og istraživanja Dragutina Gorjanovića Krambergera\, hrvatskoga renomiran
 og paleontologa i začetnika paleoantropologije na ovim prostorima. Od Gor
 janovićevih prvih temeljitih znanstvenih obrada paleoantropološkog i pal
 eontološkog materijala pronađenog na Hušnjakovu\, Zbirka i danas\, viš
 e od 120 godina nakon samog otkrića prvih fosilnih ostataka u Krapini\, p
 olučuje nove znanstvene rezultate. U predavanju će biti riječ o recentn
 im istraživanjima na ostacima krapinskih neandertalaca\, koji daju nove u
 vide u detalje biologije i kulture ove pleistocenske populacije hominina.
  \nDavorka Radovčić\nmuzejska je savjetnica\, voditeljica paleoantropol
 oških (Zbirka krapinskog diluvija) i antropoloških kolekcija u Hrvatskom
  prirodoslovnom muzeju. Diplomirala je na Sveučilištu u Zagrebu (Filozof
 ski fakultet\, Odsjek za arheologiju\, 2004.) i doktorirala na Sveučiliš
 tu u Michiganu (Odsjek za antropologiju\, M.A. 2008.\, Ph.D. 2011.)\, a sp
 ecijalizirala se za paleoantropološka istraživanja. Njezini istraživač
 ki interesi uključuju porijeklo roda Homo\, porijeklo modernih ljudi\, ne
 andertalce\, lovce sakupljače\, mediteransku pretpovijesnu arheologiju\, 
 povijest paleoantropologije i porijeklo simboličnog ponašanja.\n\n
CATEGORIES:Predavanja
LOCATION:Dječja kuća\, Ul. Viktora cara Emina 1A / Art-kvart "Benčić"\,
  Rijeka\, Croatia
X-APPLE-STRUCTURED-LOCATION;VALUE=URI;X-ADDRESS=Ul. Viktora cara Emina 1A /
  Art-kvart \"Benčić\"\, Rijeka\, Croatia;X-APPLE-RADIUS=100;X-TITLE=Dje
 čja kuća:geo:0,0
END:VEVENT
END:VCALENDAR