BEGIN:VCALENDAR
VERSION:2.0
PRODID:-//wp-events-plugin.com//6.4.7.3//EN
BEGIN:VEVENT
UID:0-122@festivalznanosti.uniri.hr
DTSTART:20230427T113000Z
DTEND:20230427T123000Z
DTSTAMP:20230421T224434Z
URL:https://festivalznanosti.uniri.hr/2023/dogadaji/kreativni-u-prirodi/
SUMMARY:Kreativni u prirodi
DESCRIPTION:Cilj je radionice kreativnim i edukativnim igrama potaknuti zad
 ovoljstvo boravka u prirodi. \n\nPromatranje i radionica ovisi o vremensk
 im uvjetima. U srijedu\, 26. travnja 2023.\, u 10.00 je projekcija Naš Mj
 esec i u 19.30 projekcija Priroda i društvo\, redovne projekcije uz napla
 tu ulaznica\; 4 eura (djeca\, studenti i umirovljenici) i 5 eura (građans
 tvo). U četvrtak\, 27. travnja 2023.\, u 10.00 je projekcija Zemlja – s
 vemirski dragulj\, redovna projekcija uz naplatu ulaznica\; 4 eura (djeca\
 , studenti i umirovljenici) i 5 eura (građanstvo).
CATEGORIES:Radionice
LOCATION:Astronomski centar Rijeka\, Svetog Križa\, Rijeka\, Croatia
X-APPLE-STRUCTURED-LOCATION;VALUE=URI;X-ADDRESS=Svetog Križa\, Rijeka\, Cr
 oatia;X-APPLE-RADIUS=100;X-TITLE=Astronomski centar Rijeka:geo:0,0
END:VEVENT
END:VCALENDAR