BEGIN:VCALENDAR
VERSION:2.0
PRODID:-//wp-events-plugin.com//6.4.7.3//EN
BEGIN:VEVENT
UID:0-95@festivalznanosti.uniri.hr
DTSTART:20230425T190000Z
DTEND:20230425T200000Z
DTSTAMP:20230425T163033Z
URL:https://festivalznanosti.uniri.hr/2023/dogadaji/o-potresima-u-hrvatsko
 j-i-okolici-u-posljednje-tri-godine/
SUMMARY:O seizmologiji\, potresima i o tome zašto ih seizmolozi ne mogu pr
 edvidjeti
DESCRIPTION:Koje su posebnosti seizmologije kao znanstvene discipline? Što
  su potresi\, kako nastaju i gdje su najčešći? Zašto baš ondje? Čime
  se sve bave seizmolozi\, i zašto ne mogu prognozirati potrese? Kakva su 
 svojstva seizmičnosti u široj okolice Rijeke? Što smo naučili od nedav
 nih potresa u Hrvatskoj i okolici? Kako se od potresa zaštititi? Ima li o
 d njih ikakve koristi? U predavanju će se pokušati odgovoriti na ova i b
 rojna druga pitanja o seizmologiji\, seizmolozima i potresima.\nProf. dr. 
 sc. Marijan Herak\nugledni je hrvatski seizmolog i redoviti profesor u tra
 jnom zvanju na Geofizičkom odsjeku Prirodoslovno-matematičkog fakulteta 
 Sveučilišta u Zagrebu. Diplomirao je fiziku – geofiziku 1981.\, a magi
 strirao je 1985. godine. Doktorsku disertaciju obranio je 1991. na Sveuči
 lištu u Zagrebu. Znanstveno se usavršavao u Njemačkoj\, Italiji\, SAD-u
  i Kini. U svojem se znanstvenom radu bavi brojnim aspektima seizmologije\
 , pri čemu se posebno ističu studije seizmičnosti Hrvatske\, istraživa
 nje svojstava Zemljine unutrašnjosti\, površinskih valova\, kvantifikaci
 ja potresa\, povijesna seizmologija\, te radovi vezani za procjenu seizmi
 čke opasnosti i ugroženosti. Objavio je 99 radova u časopisima i više 
 desetaka drugih radova\, studija i elaborata. Radovi su mu citirani više 
 od 2700 puta uz h-indeks 28. Također\, autor je računalnih programa za r
 aznovrsne analize seizmoloških podataka te je glavni autor Hrvatske karte
  potresne opasnosti. Organizirao je niz međunarodnih skupova i radionica 
 i sudjelovao u više od 20 međunarodnih i domaćih istraživačkih projek
 ata. Istaknuo se u akademskoj zajednici obnašajući dužnosti pročelnika
  Odsjeka i prodekana Prirodoslovno-matematičkog fakulteta za međunarodnu
  suradnju te predsjednika sveučilišnog Vijeća prirodoslovnog područja.
  Bio je predsjednik Znanstvenog vijeća za daljinska istraživanja HAZU-a 
 i glavni urednik časopisa Geofizika. M. Herak hrvatski je predstavnik u E
 uropskoj seizmološkoj komisiji te član suradnik HAZU-a. Godine 2016. dod
 ijeljena mu je nagrada ‘Andrija Mohorovičić’ Sveučilišta u Zagrebu
 .\n
ATTACH;FMTTYPE=image/jpeg:https://festivalznanosti.uniri.hr/2023/wp-conten
 t/uploads/sites/6/2023/04/potres.png
CATEGORIES:Predavanja
LOCATION:Dječja kuća\, Ul. Viktora cara Emina 1A / Art-kvart "Benčić"\,
  Rijeka\, Croatia
X-APPLE-STRUCTURED-LOCATION;VALUE=URI;X-ADDRESS=Ul. Viktora cara Emina 1A /
  Art-kvart \"Benčić\"\, Rijeka\, Croatia;X-APPLE-RADIUS=100;X-TITLE=Dje
 čja kuća:geo:0,0
END:VEVENT
END:VCALENDAR