BEGIN:VCALENDAR
VERSION:2.0
PRODID:-//wp-events-plugin.com//6.4.7.3//EN
BEGIN:VEVENT
UID:0-11@festivalznanosti.uniri.hr
DTSTART:20230424T110000Z
DTEND:20230424T113000Z
DTSTAMP:20230424T021401Z
URL:https://festivalznanosti.uniri.hr/2023/dogadaji/otvorenje-21-festivala
 -znanosti-rijeka/
SUMMARY:Otvorenje 21. Festivala znanosti Rijeka
DESCRIPTION:
ATTACH;FMTTYPE=image/jpeg:https://festivalznanosti.uniri.hr/2023/wp-conten
 t/uploads/sites/6/2023/04/Otvorenje-21.-Festivala-znanosti-Rijeka.jpg
LOCATION:Dječja kuća\, Ul. Viktora cara Emina 1A / Art-kvart "Benčić"\,
  Rijeka\, Croatia
X-APPLE-STRUCTURED-LOCATION;VALUE=URI;X-ADDRESS=Ul. Viktora cara Emina 1A /
  Art-kvart \"Benčić\"\, Rijeka\, Croatia;X-APPLE-RADIUS=100;X-TITLE=Dje
 čja kuća:geo:0,0
END:VEVENT
END:VCALENDAR