BEGIN:VCALENDAR
VERSION:2.0
PRODID:-//wp-events-plugin.com//6.4.7.3//EN
BEGIN:VEVENT
UID:0-115@festivalznanosti.uniri.hr
DTSTART:20230426T183000Z
DTEND:20230426T190000Z
DTSTAMP:20230426T124307Z
URL:https://festivalznanosti.uniri.hr/2023/dogadaji/petrinjski-potres-i-po
 jave-u-tlu/
SUMMARY:Petrinjski potres i pojave u tlu
DESCRIPTION:Petrinjski potres\, koji se dogodio 29. prosinca 2020. godine i
  imao magnitudu M=6.2\, izazvao je\nbrojna oštećenja građevina u Petrin
 ji\, Sisku i Glini\, ali i šire\; osjetio se u cijeloj Hrvatskoj te svim\
 nsusjednim zemljama. Iako su posljedice potresa najviše evidentirane u š
 tetama na građevinama\,\nnajznačajnije vidljive posljedice bile su u tlu
  u vidu likvefakcije\, klizišta i urušavanja u vrtačama.\nLikvefakcija\
 , pojava u kojoj se uslijed potresne trešnje tlo pretvara u tekućinu i g
 ubi nosivost\, pojavila\nse u Hrvatskoj prvi put nakon 111 godina\, kada j
 e zabilježena u pokupskom potresu 1909. godine\, s\nepicentrom u blizini 
 Pokupskog. U prezentaciji će biti pokazane i objašnjene pojave u tlu iza
 zvane\npetrinjskim potresom te njihov utjecaj na oštećenje građevina\, 
 prometnica i riječnih nasipa Kupe\,\nSave i Gline.\nŽeljko Arbanas\nredo
 viti je profesor na Građevinskom fakultetu Sveučilišta u Rijeci\, na ko
 jem predaje\nkolegije iz geotehnike. Njegovi su istraživački interesi me
 hanika tla\, mehanika stijena i geotehničko\ninženjerstvo. Uža su mu sp
 ecijalnost klizišta\, konkretno fizičko i numeričko modeliranje kliziš
 ta te\nistražni radovi na klizištima i sanacija klizišta. Samostalno i 
 u suautorstvu objavio je više od 220\nradova u časopisima i na međunaro
 dnim konferencijama. Autor je i urednik deset znanstvenih\nknjiga. Projekt
 irao je brojne projekte temeljenja građevina\, potpornih konstrukcija\, g
 rađevnih jama i\nsanacija klizišta. Član je Hrvatske akademije tehničk
 ih znanosti i više međunarodnih strukovnih i\nznanstvenih udruga.\n\n
CATEGORIES:Predavanja
LOCATION:Dječja kuća\, Ul. Viktora cara Emina 1A / Art-kvart "Benčić"\,
  Rijeka\, Croatia
X-APPLE-STRUCTURED-LOCATION;VALUE=URI;X-ADDRESS=Ul. Viktora cara Emina 1A /
  Art-kvart \"Benčić\"\, Rijeka\, Croatia;X-APPLE-RADIUS=100;X-TITLE=Dje
 čja kuća:geo:0,0
END:VEVENT
END:VCALENDAR