BEGIN:VCALENDAR
VERSION:2.0
PRODID:-//wp-events-plugin.com//6.4.7.3//EN
BEGIN:VEVENT
UID:0-124@festivalznanosti.uniri.hr
DTSTART:20230427T180000Z
DTEND:20230427T184500Z
DTSTAMP:20230421T135314Z
URL:https://festivalznanosti.uniri.hr/2023/dogadaji/priroda-i-drustvo-2/
SUMMARY:Priroda i društvo
DESCRIPTION:NOVA prezentacija u planetariju publici će pokazati kako klima
  utječe na čovjekove aktivnosti\, razvoj društva i različitih kultura.
  Prikazat će se raspodjela glavnih tipova klime\, tla i biljnih zajednica
  na Zemlji te prilagodbe čovjeka na život u različitim klimatskim podru
 čjima. 
LOCATION:Astronomski centar Rijeka\, Svetog Križa\, Rijeka\, Croatia
X-APPLE-STRUCTURED-LOCATION;VALUE=URI;X-ADDRESS=Svetog Križa\, Rijeka\, Cr
 oatia;X-APPLE-RADIUS=100;X-TITLE=Astronomski centar Rijeka:geo:0,0
END:VEVENT
END:VCALENDAR