BEGIN:VCALENDAR
VERSION:2.0
PRODID:-//wp-events-plugin.com//6.4.7.3//EN
BEGIN:VEVENT
UID:0-121@festivalznanosti.uniri.hr
DTSTART:20230427T110000Z
DTEND:20230427T113000Z
DTSTAMP:20230421T135432Z
URL:https://festivalznanosti.uniri.hr/2023/dogadaji/priroda-i-drustvo/
SUMMARY:Priroda i društvo
DESCRIPTION:Cilj je kviza potaknuti znatiželju djece za prirodne znanosti 
 te ih upoznati sa zanimljivostima planeta Zemlje i tema iz astronomije\, e
 kologije i geografije. 
LOCATION:Astronomski centar Rijeka\, Svetog Križa\, Rijeka\, Croatia
X-APPLE-STRUCTURED-LOCATION;VALUE=URI;X-ADDRESS=Svetog Križa\, Rijeka\, Cr
 oatia;X-APPLE-RADIUS=100;X-TITLE=Astronomski centar Rijeka:geo:0,0
END:VEVENT
END:VCALENDAR