BEGIN:VCALENDAR
VERSION:2.0
PRODID:-//wp-events-plugin.com//6.4.7.3//EN
BEGIN:VEVENT
UID:0-116@festivalznanosti.uniri.hr
DTSTART:20230426T190000Z
DTEND:20230426T200000Z
DTSTAMP:20230426T124345Z
URL:https://festivalznanosti.uniri.hr/2023/dogadaji/priroda-konstrukcije-d
 rustvo/
SUMMARY:Priroda – konstrukcije - društvo
DESCRIPTION:Je li požar u katedrali Notre Dame u Parizu 2019. mogao biti i
 zbjegnut? Zašto se 2018. srušio vijadukt Morandi u Genovi? Kako su neke 
 građevine preživjele eksplozije u Hirošimi 1945.? Na ova i brojna druga
  pitanja pokušat ćemo odgovoriti na ovom predavanju. Kratka povijest kon
 strukcija bit će uvod u temu koja će pokriti prirodne i društvene sile 
 te otpornost konstrukcija za ekstremne prilike\, kao i njihovu trajnost.\n
 Dragan Ribarić \n(1958.) profesor je na Građevinskom fakultetu u Rijeci 
 na Zavodu za konstrukcije i tehničku mehaniku. Projektant je konstrukcija
  (Dvorana Kostrena\, Baptistička crkva Rijeka\, Garažno-poslovno-stamben
 i centar Zagrad Rijeka)\, projektant mostova (Čeveljuša kod Ploča\, Uli
 ca Podkoludricu Rijeka)\, a radi na nadzoru građenja (Bazeni Kantrida Rij
 eka)\, ispitivanju (vijadukti na cesti BINA Istra) i sanaciji konstrukcija
  (Palača Marochini Bakar) i drugo.\n\n
CATEGORIES:Predavanja
LOCATION:Dječja kuća\, Ul. Viktora cara Emina 1A / Art-kvart "Benčić"\,
  Rijeka\, Croatia
X-APPLE-STRUCTURED-LOCATION;VALUE=URI;X-ADDRESS=Ul. Viktora cara Emina 1A /
  Art-kvart \"Benčić\"\, Rijeka\, Croatia;X-APPLE-RADIUS=100;X-TITLE=Dje
 čja kuća:geo:0,0
END:VEVENT
END:VCALENDAR