BEGIN:VCALENDAR
VERSION:2.0
PRODID:-//wp-events-plugin.com//6.4.7.3//EN
BEGIN:VEVENT
UID:0-119@festivalznanosti.uniri.hr
DTSTART:20230427T090000Z
DTEND:20230427T180000Z
DTSTAMP:20230425T111208Z
URL:https://festivalznanosti.uniri.hr/2023/dogadaji/promatranje-sunca-tele
 skopom-s-h-alfa-filtrom/
SUMMARY:Promatranje Sunca teleskopom s H-alfa filtrom
DESCRIPTION:Promatranje i radionica ovisi o vremenskim uvjetima. U srijedu\
 , 26. travnja 2023.\, u 10.00 je projekcija Naš Mjesec i u 19.30 projekci
 ja Priroda i društvo\, redovne projekcije uz naplatu ulaznica\; 4 eura (d
 jeca\, studenti i umirovljenici) i 5 eura (građanstvo). U četvrtak\, 27.
  travnja 2023.\, u 10.00 je projekcija Zemlja – svemirski dragulj\, redo
 vna projekcija uz naplatu ulaznica\; 4 eura (djeca\, studenti i umirovljen
 ici) i 5 eura (građanstvo).\n\nVoditelji: članovi AAD-a\n\nČlanovi Akad
 emskoga astronomskog društva – Rijeka u četvrtak\, 27. travnja od 11 d
 o 19 sati omogućit će promatranje Sunca posebnim teleskopom s filterom H
 -alfa. Uz vizualno promatranje Sunca s donje terase Astronomskog centra Ri
 jeka u multimedijalnoj dvorani ACR-a bit će postavljen i izravan prijenos
  snimanja Sunca s glavnog teleskopa Astronomskog centra Rijeka. U ovom su 
 razdoblju promatranja Sunca vrlo zanimljiva s obzirom na to da Sunce uprav
 o ulazi u najaktivniji period svoga jedanaestogodišnjeg ciklusa te su na 
 njegovoj površini posebno istaknute pjege\, a na rubovima protuberance. S
 aznajte nešto više o našoj najvažnijoj zvijezdi uz promatranje i stru
 čno vodstvo članova AAD-a.
LOCATION:Astronomski centar Rijeka\, Svetog Križa\, Rijeka\, Croatia
X-APPLE-STRUCTURED-LOCATION;VALUE=URI;X-ADDRESS=Svetog Križa\, Rijeka\, Cr
 oatia;X-APPLE-RADIUS=100;X-TITLE=Astronomski centar Rijeka:geo:0,0
END:VEVENT
END:VCALENDAR