BEGIN:VCALENDAR
VERSION:2.0
PRODID:-//wp-events-plugin.com//6.4.7.3//EN
BEGIN:VEVENT
UID:0-97@festivalznanosti.uniri.hr
DTSTART:20230426T081500Z
DTEND:20230426T100000Z
DTSTAMP:20230423T230426Z
URL:https://festivalznanosti.uniri.hr/2023/dogadaji/razvoj-drustva-uslijed
 -industrijske-i-znanstveno-tehnoloske-revolucije/
SUMMARY:Razvoj društva uslijed industrijske i znanstveno-  tehnološke rev
 olucije
DESCRIPTION:Prezenteri:\nDario Maradin\, Mirjana Grčić Fabić\, Lara Hla
 ča\n\nPredavanja su zatvorenoga tipa.\n\nCilj je predavanja prezentirati 
 društveni razvoj u odnosu na tehnološke revolucije\, odnosno uslijed prv
 e industrijske revolucije\, od kraja 18. st. do sredine 19. st.\; druge in
 dustrijske (mehanizacijske) revolucije\, od druge polovice 19. st. do poč
 etka 20. st.\; treće znanstveno-tehnološke (informatičke) revolucije\, 
 od druge polovice 20. st. do danas\, te četvrte znanstveno-tehnološke re
 volucije\, koja se danas već uvelike primjenjuje. U okviru će navedene t
 eme naglasak biti i na značajkama obnovljivih izvora energije koji se poj
 avljuju u prirodi.\nDario Maradin\n izvanredni je profesor na Ekonomskom f
 akultetu Sveučilišta u Rijeci. U okviru nastavne djelatnosti predaje mik
 roekonomiju i srodne kolegije na prijediplomskom\, diplomskom i poslijedip
 lomskom studiju na hrvatskom i engleskom jeziku na Katedri za teorijsku ek
 onomiju. U okviru znanstvenoistraživačkog rada autor je ili suautor niza
  znanstvenih članaka objavljenih u međunarodnim visokokvalitetnim časop
 isima te konferencijama.
CATEGORIES:Predavanja
LOCATION:Osnovna škola Eugen Kumičić\, Ul. Franje Čandeka 40\, Rijeka\,
  Croatia
X-APPLE-STRUCTURED-LOCATION;VALUE=URI;X-ADDRESS=Ul. Franje Čandeka 40\, Ri
 jeka\, Croatia;X-APPLE-RADIUS=100;X-TITLE=Osnovna škola Eugen Kumičić:g
 eo:0,0
END:VEVENT
END:VCALENDAR