BEGIN:VCALENDAR
VERSION:2.0
PRODID:-//wp-events-plugin.com//6.4.7.3//EN
BEGIN:VEVENT
UID:0-2@festivalznanosti.uniri.hr
DTSTART:20230424T100000Z
DTEND:20230424T110000Z
DTSTAMP:20230424T020703Z
URL:https://festivalznanosti.uniri.hr/2023/dogadaji/statistika-u-znanosti/
SUMMARY:Statistika u znanosti
DESCRIPTION:Darko Mekterović
ATTACH;FMTTYPE=image/jpeg:https://festivalznanosti.uniri.hr/2023/wp-conten
 t/uploads/sites/6/2023/04/statistika.png
CATEGORIES:Predavanja
LOCATION:Fakultet za fiziku\, Sveučilište u Rijeci\, Ulica Radmile Matej
 čić 2\, Rijeka\, Croatia
X-APPLE-STRUCTURED-LOCATION;VALUE=URI;X-ADDRESS=Ulica Radmile Matejčić 2\
 , Rijeka\, Croatia;X-APPLE-RADIUS=100;X-TITLE=Fakultet za fiziku\, Sveuči
 lište u Rijeci:geo:0,0
END:VEVENT
END:VCALENDAR