BEGIN:VCALENDAR
VERSION:2.0
PRODID:-//wp-events-plugin.com//6.4.7.3//EN
BEGIN:VEVENT
UID:0-123@festivalznanosti.uniri.hr
DTSTART:20230427T150000Z
DTEND:20230427T170000Z
DTSTAMP:20230422T081035Z
URL:https://festivalznanosti.uniri.hr/2023/dogadaji/sunce/
SUMMARY:Sunce
DESCRIPTION:U ovoj će se radionici učenici viših razreda osnovne škole 
 imati priliku upoznati s glavnim značajkama središnje zvijezde našega p
 lanetarnog sustava\, od njegove dimenzije\, strukture\, fizikalnih svojsta
 va te utjecaja na Zemlju. Učenici će jednostavnom opažačkom metodom mj
 eriti aktivnost Sunca i pritom\, brojeći vidljive pjege na Sunčevoj povr
 šini\, računati Wolfov broj. U sklopu će radionice najspretniji učenic
 i imati priliku izrađivati posebne filtere koji će se u budućnosti kori
 stiti za teleskopska opažanja Sunca.\nLovro Pavletić\ndoktorand je Fakul
 teta za fiziku Sveučilišta u Rijeci\, na kojem je i diplomirao na temi i
 zučavanja svojstva međuzvjezdane prašine oko pulsirajućih zvijezda tip
 a Mira. Sudjelovao je na projektu Hrvatske zaklade za znanost Visokoenerge
 tska astrofizika teleskopima MAGIC i CTA. Bio je na studentskoj razmjeni n
 a Sveučilištu u Camerinu u Italiji te na razmjeni doktoranada na Autonom
 nom sveučilištu u Barceloni. Sudjelovao je na brojnim znanstvenim skupov
 ima\, konferencijama\, strukovnim školama i projektima poput Globalne met
 eorske mreže. Predsjednik je Akademskoga astronomskog društva – Rijeka
 \, u kojemu je član od 2003. Odnedavno je koordinator Međunarodnog susre
 ta astronoma regije Alpe-Adria.\nPetar Jelača\nnastavnik je fizike u Gimn
 aziji Andrije Mohorovičića Rijeka. Diplomirao je na Odjelu za fiziku Sve
 učilišta u Rijeci. Voditelj je školske astronomske sekcije te je mentor
  učenicima na natjecanjima iz astronomije. Dosad su koje je pripremao pos
 tigli zapažene rezultate\, uključujući i plasman na Međunarodnu astron
 omsku olimpijadu. Dobitnik je nagrade koja se dodjeljuje najuspješnijim o
 dgojno-obrazovnog djelatnicima u Primorsko-goranskoj županiji u 2021. god
 ini. Član je Upravnog odbora Akademskog astronomskog društva – Rijeka.
 \n\nUčenici Gimnazije Andrije Mohorovičića Rijeka: Helena Marušić i K
 rešimir Bravić
CATEGORIES:Radionice
LOCATION:Astronomski centar Rijeka\, Svetog Križa\, Rijeka\, Croatia
X-APPLE-STRUCTURED-LOCATION;VALUE=URI;X-ADDRESS=Svetog Križa\, Rijeka\, Cr
 oatia;X-APPLE-RADIUS=100;X-TITLE=Astronomski centar Rijeka:geo:0,0
END:VEVENT
END:VCALENDAR