BEGIN:VCALENDAR
VERSION:2.0
PRODID:-//wp-events-plugin.com//6.4.7.3//EN
BEGIN:VEVENT
UID:0-13@festivalznanosti.uniri.hr
DTSTART:20230424T120000Z
DTEND:20230424T123000Z
DTSTAMP:20230421T112216Z
URL:https://festivalznanosti.uniri.hr/2023/dogadaji/suzivot-gradevina-s-pr
 irodom-i-drustvom/
SUMMARY:Suživot građevina s prirodom i društvom
DESCRIPTION:Povodom 21. Festivala znanosti na temu "Priroda i društvo" Gra
 đevinski fakultet Sveučilišta u Rijeci organizira izložbu fotografija 
 prijavljenih na fotonatječaj za studente\, zaposlenike i alumne Građevin
 skog fakulteta u Rijeci. Izložene fotografije pratit će teme:\n\n- Građ
 evinski zahvati u prirodi\n\n- Građevinarstvo i ljudi\n\n- Građevine i s
 ile prirode.\n\nFotografije će biti izložene na 3. katu Građevinskog fa
 kulteta.\nDr. sc. Martina Vivoda Prodan \ndocentica je na Katedri za geote
 hniku Građevinskog fakulteta Sveučilišta u Rijeci. Njezina su područja
  znanstvenoistraživačkog interesa mjere sanacije klizišta\, numeričko 
 modeliranje klizišta i laboratorijsko ispitivanje tala i stijena s naglas
 kom na ispitivanje u uređaju za prstenasto smicanje i flišnu stijensku m
 asu.\n\nInstitucija: Sveučilište u Rijeci\, Građevinski fakultet\n\nTer
 min: otvorenje izložbe prvog dana Festivala\, 24. travnja 2023.\n\nTrajan
 je: tijekom Festivala (24. – 30. travnja 2023.)\n\nPublika: šira javnos
 t 
LOCATION:Građevinski fakultet\, Sveučilište u Rijeci\, Ul. Radmile Matej
 čić 3\, Rijeka\, Croatia
X-APPLE-STRUCTURED-LOCATION;VALUE=URI;X-ADDRESS=Ul. Radmile Matejčić 3\, 
 Rijeka\, Croatia;X-APPLE-RADIUS=100;X-TITLE=Građevinski fakultet\, Sveuč
 ilište u Rijeci:geo:0,0
END:VEVENT
END:VCALENDAR