BEGIN:VCALENDAR
VERSION:2.0
PRODID:-//wp-events-plugin.com//6.4.7.3//EN
BEGIN:VEVENT
UID:0-94@festivalznanosti.uniri.hr
DTSTART:20230425T180000Z
DTEND:20230425T190000Z
DTSTAMP:20230425T103048Z
URL:https://festivalznanosti.uniri.hr/2023/dogadaji/teme-i-dileme-biorazno
 likosti-u-gradovima/
SUMMARY:Teme i dileme bioraznolikosti u gradovima
DESCRIPTION:Bioraznolikost predstavlja složenu biološku oznaku ekosustava
  koju često pogrešno shvaćamo i interpretiramo. Možemo ju promatrati i
  analizirati na različitim razinama\, od molekula preko jedinki\, vrsta\,
  zajednica pa sve do samih ekosustava. Suprotno općem mišljenju biorazno
 likost je u gradovima velika\, često znatno veća od bioraznolikosti u su
 sjednim ekosustavima koji su pod manjim utjecajem čovjeka. No ta raznolik
 ost u većini primjera nije funkcionalna. Problematiku vezanu za bioraznol
 ikost u gradovima najčešće se pokušava riješiti uspostavljanjem „ze
 lenih otoka“\, a što je u temelju krivo. Kako uspostaviti samoodrživij
 u i funkcionalniju bioraznolikost u gradovima pokušat ćemo odgovoriti ti
 jekom predavanja i razgovora.\n\n&nbsp\;\nBiolog Boštjan Surina\nsvoje je
  sveučilišno obrazovanje stekao na Sveučilištu u Ljubljani\, a poslije
 doktorske studije je nastavio na Bečkom sveučilištu\, gdje je proučava
 o uzorke genetske varijabilnosti biljnih vrsta u vremenu i prostoru na pod
 ručju jugoistočne Europe. Istraživački i pedagoški rad nastavio je ka
 o izvanredni profesor na Univerzi na Primorskem (Koper)\, a danas djeluje 
 kao viši kustos botaničar u Prirodoslovnom muzeju Rijeka. Pored kustoski
 h poslova zanimaju ga problemi specijacije\, evolucije\, nastanka i održa
 vanje reprodukcijskih barijera među biljnim vrstama te njihova ekologija.
 \n
CATEGORIES:Predavanja
LOCATION:Dječja kuća\, Ul. Viktora cara Emina 1A / Art-kvart "Benčić"\,
  Rijeka\, Croatia
X-APPLE-STRUCTURED-LOCATION;VALUE=URI;X-ADDRESS=Ul. Viktora cara Emina 1A /
  Art-kvart \"Benčić\"\, Rijeka\, Croatia;X-APPLE-RADIUS=100;X-TITLE=Dje
 čja kuća:geo:0,0
END:VEVENT
END:VCALENDAR