BEGIN:VCALENDAR
VERSION:2.0
PRODID:-//wp-events-plugin.com//6.4.7.3//EN
BEGIN:VEVENT
UID:0-120@festivalznanosti.uniri.hr
DTSTART:20230427T090000Z
DTEND:20230427T180000Z
DTSTAMP:20230418T203155Z
URL:https://festivalznanosti.uniri.hr/2023/dogadaji/video-projekcija-sunca
 -s-glavnog-teleskopa-zvjezdarnice/
SUMMARY:Video projekcija Sunca s glavnog teleskopa zvjezdarnice
DESCRIPTION:Promatranje i radionica ovisi o vremenskim uvjetima. U srijedu\
 , 26. travnja 2023.\, u 10.00 je projekcija Naš Mjesec i u 19.30 projekci
 ja Priroda i društvo\, redovne projekcije uz naplatu ulaznica\; 4 eura (d
 jeca\, studenti i umirovljenici) i 5 eura (građanstvo). U četvrtak\, 27.
  travnja 2023.\, u 10.00 je projekcija Zemlja – svemirski dragulj\, redo
 vna projekcija uz naplatu ulaznica\; 4 eura (djeca\, studenti i umirovljen
 ici) i 5 eura (građanstvo).
LOCATION:Astronomski centar Rijeka\, Svetog Križa\, Rijeka\, Croatia
X-APPLE-STRUCTURED-LOCATION;VALUE=URI;X-ADDRESS=Svetog Križa\, Rijeka\, Cr
 oatia;X-APPLE-RADIUS=100;X-TITLE=Astronomski centar Rijeka:geo:0,0
END:VEVENT
END:VCALENDAR