BEGIN:VCALENDAR
VERSION:2.0
PRODID:-//wp-events-plugin.com//6.4.7.3//EN
BEGIN:VEVENT
UID:0-12@festivalznanosti.uniri.hr
DTSTART:20230424T120000Z
DTEND:20230424T133000Z
DTSTAMP:20230422T081428Z
URL:https://festivalznanosti.uniri.hr/2023/dogadaji/zaustavljanje-izumiran
 ja-risa-u-hrvatskoj-podrzava-li-drustvo-opstanak-velikog-predatora/
SUMMARY:Zaustavljanje izumiranja risa u Hrvatskoj – podržava li društvo
  opstanak velikog predatora?
DESCRIPTION:Od početka života na Zemlji opisano je šest masovnih izumira
 nja – događaja kada je u relativno kratkom vremenskom razdoblju značaj
 no pao broj vrsta živih organizama na planetu. Mnogi\nznanstveni dokazi u
 pućuju na to da se upravo nalazimo u holocenskom masovnom izumiranju\, ko
 je od prethodnih razlikuje činjenica da je potaknuto ljudskim djelovanjem
 . Mnoge od vrsta koje upravo nestaju znanost nikada nije ni opisala\, a ve
 lika većina nije poznata široj javnosti. No pred očima nam izumiru i vr
 lo poznate i karizmatične vrste koje su simbol očuvane prirode – kao 
 što su tigrovi\, nosorozi ili u Hrvatskoj – risovi.\n\nKako znanstvenic
 i\, ali i cjelokupno društvo reagiraju na gubitak prirodnog bogatstva i 
 što možemo učiniti da to spriječimo ispričat ćemo govoreći o projek
 tu zaustavljanja izumiranja risa u Dinaridima\, koji se posljednjih pet go
 dina provodi u Hrvatskoj i susjednoj Sloveniji. Znanstvenici za sada imaju
  odlične rezultate u zaustavljanju negativnog trenda populacije\, no hoć
 e li društvo preuzeti svoj dio odgovornosti kako bi početni uspjeh imao 
 dugotrajan učinak?\nPredavačica:\nizv. prof. dr. sc. Magda Sindičić\, 
 Veterinarski fakultet Sveučilišta u Zagrebu\, koordinatorica provedbe pr
 ojekta LIFE Lynx u Hrvatskoj\nModeratorica:\nBojana Vignjević Korotaj
ATTACH;FMTTYPE=image/jpeg:https://festivalznanosti.uniri.hr/2023/wp-conten
 t/uploads/sites/6/2023/04/ris.jpg
LOCATION:Dječja kuća\, Ul. Viktora cara Emina 1A / Art-kvart "Benčić"\,
  Rijeka\, Croatia
X-APPLE-STRUCTURED-LOCATION;VALUE=URI;X-ADDRESS=Ul. Viktora cara Emina 1A /
  Art-kvart \"Benčić\"\, Rijeka\, Croatia;X-APPLE-RADIUS=100;X-TITLE=Dje
 čja kuća:geo:0,0
END:VEVENT
END:VCALENDAR