BEGIN:VCALENDAR
VERSION:2.0
PRODID:-//wp-events-plugin.com//6.4.7.3//EN
BEGIN:VEVENT
UID:0-100@festivalznanosti.uniri.hr
DTSTART:20230426T090000Z
DTEND:20230426T100000Z
DTSTAMP:20230424T004318Z
URL:https://festivalznanosti.uniri.hr/2023/dogadaji/zivot-u-kapljici-vode-
 vaznost-ocuvanja-krskih-lokava/
SUMMARY:Život u kapljici vode – važnost očuvanja krških lokava
DESCRIPTION:Voditelji:\nJadranka Vraneković i Ema Arh\n\nRadionica je zatv
 orenog tipa.\n\nKrške su lokve mala vodena staništa\, nastaju prirodnim 
 putem\, ali ih često oblikuje i čovjek\, pa razlikujemo prirodne i umjet
 ne lokve. Lokve su oduvijek bile izvor vode za napajanje stoke i polja. U 
 lokvama pronalazimo mnoge močvarne i vodene vrste biljaka i životinja\, 
 stoga predstavljaju izvor hrane i vode brojnim drugim vrstama te su posebn
 o važne u očuvanju biološke raznolikosti. S obzirom na moderan način 
 života lokve polako zarastaju\, a time i nestaju vrijedni primjeri biljak
 a i životinja\, odnosno smanjuje se biološka raznolikost. Kako bi se svi
 jest o očuvanju biološke raznolikosti probudila već u mlađoj školskoj
  dobi\, sudionicima će se na radionici približiti živi svijet krških l
 okvi te osvijestiti važnost njihova očuvanja\, što podrazumijeva i njih
 ovo čišćenje od mulja\, ali od otpada koje stvara čovjek. Povremene me
 diteranske lokve dio su Europske ekološke mreže Natura 2000.\nIzv. prof.
  dr. sc. Jadranka Vraneković\nprof. biol. kem.\, radi na Zavodu za medici
 nsku biologiju i genetiku Medicinskog fakulteta Sveučilišta u Rijeci. Vo
 diteljica je znanstvenog projekta Epigenetički i genetički čimbenici u 
 etiologiji srčanih grešaka kod osoba sa sindromom Down. Voditeljica je i
  stručno-dijagnostičkog laboratorija za citogenetiku te molekularnu cito
 genetiku\, čija je osnovna djelatnost prenatalna i postnatalna dijagnosti
 ka kromosomopatija. Uz znanstveni i stručni rad sudjeluje u nastavi veći
 ne kolegija preddiplomskih\, diplomskih i poslijediplomskih studija u koje
  je Zavod uključen\, a voditeljica je obvezatnog kolegija na drugoj godin
 i preddiplomskog sveučilišnog studija sanitarnog inženjerstva Opća eko
 logija.\nEma Arh\nstudentica je treće godine preddiplomskoga sveučilišn
 og studija sanitarnog inženjerstva s izuzetnim interesom za ekologiju pov
 ršinskih voda. Radna je tema njezina završnog rada Procjena citotoksičn
 osti malih površinskih vodenih staništa – krške lokve.
CATEGORIES:Radionice
LOCATION:Osnovna škola Bakar\, Područna škola Krasica\, Krasica 186\, Kr
 asica\, Croatia
X-APPLE-STRUCTURED-LOCATION;VALUE=URI;X-ADDRESS=Krasica 186\, Krasica\, Cro
 atia;X-APPLE-RADIUS=100;X-TITLE=Osnovna škola Bakar\, Područna škola Kr
 asica:geo:0,0
END:VEVENT
END:VCALENDAR